BEGIN:VCALENDAR
VERSION:2.0
PRODID:-//ChamberMaster//Event Calendar 2.0//EN
METHOD:PUBLISH
X-PUBLISHED-TTL:P3D
REFRESH-INTERVAL:P3D
CALSCALE:GREGORIAN
BEGIN:VEVENT
DTSTART:20290425T164500Z
DTEND:20290425T170000Z
X-MICROSOFT-CDO-ALLDAYEVENT:FALSE
SUMMARY:2024 Education Appreciation Luncheon
DESCRIPTION:The Education Appreciation Luncheon is held to honor teachers\, administrators\, and students in our community that have stood out. We celebrate our teachers and administrators of the year from each school\, star students\, and our CCYL scholarship recipients.
X-ALT-DESC;FMTTYPE=text/html:The Education Appreciation Luncheon is held to honor teachers\, administrators\, and students in our community that have stood out. We celebrate our teachers and administrators of the year from each school\, star students\, and our CCYL scholarship recipients.&nbsp\;
LOCATION:
UID:e.1219.3897
SEQUENCE:3
DTSTAMP:20260425T142253Z
URL:https://business.clintonchamber.org/events/details/2024-education-appreciation-luncheon-04-25-2029-3897
END:VEVENT

END:VCALENDAR
