BEGIN:VCALENDAR
VERSION:2.0
PRODID:-//ChamberMaster//Event Calendar 2.0//EN
METHOD:PUBLISH
X-PUBLISHED-TTL:P3D
REFRESH-INTERVAL:P3D
CALSCALE:GREGORIAN
BEGIN:VEVENT
DTSTART:20220217T170000Z
DTEND:20220217T180000Z
X-MICROSOFT-CDO-ALLDAYEVENT:FALSE
SUMMARY:Ambassador's Luncheon
DESCRIPTION:Ambassador's Luncheon\n\nThe Bank by Pizza Shack
X-ALT-DESC;FMTTYPE=text/html:Ambassador&#39\;s Luncheon<br />\nThe Bank by Pizza Shack
LOCATION:
UID:e.1219.3266
SEQUENCE:3
DTSTAMP:20260425T105154Z
URL:https://business.clintonchamber.org/events/details/ambassador-s-luncheon-3266
END:VEVENT

END:VCALENDAR
