BEGIN:VCALENDAR
VERSION:2.0
PRODID:-//ChamberMaster//Event Calendar 2.0//EN
METHOD:PUBLISH
X-PUBLISHED-TTL:P3D
REFRESH-INTERVAL:P3D
CALSCALE:GREGORIAN
BEGIN:VEVENT
DTSTART:20210414T213000Z
DTEND:20210414T223000Z
X-MICROSOFT-CDO-ALLDAYEVENT:FALSE
SUMMARY:CCYL Meeting
DESCRIPTION:April meeting for our Clinton Chamber Youth Leadership (CCYL) Program.\n\nThis month's theme is:\n\nWe will be welcoming a guest speaker at this meeting.
X-ALT-DESC;FMTTYPE=text/html:April meeting for our Clinton Chamber Youth Leadership (CCYL) Program.\n\nThis month's theme is:\n\nWe will be welcoming a guest speaker at this meeting.
LOCATION:Wood Activity & Therapeutic Center\, 111 Clinton Blvd\, Clinton\, MS 39056\, USA
UID:e.1219.2829
SEQUENCE:3
DTSTAMP:20260426T031511Z
URL:https://business.clintonchamber.org/events/details/ccyl-meeting-04-14-2021-2829
END:VEVENT

END:VCALENDAR
