BEGIN:VCALENDAR
VERSION:2.0
PRODID:-//ChamberMaster//Event Calendar 2.0//EN
METHOD:PUBLISH
X-PUBLISHED-TTL:P3D
REFRESH-INTERVAL:P3D
CALSCALE:GREGORIAN
BEGIN:VEVENT
DTSTART:20220324T164500Z
DTEND:20220324T180000Z
X-MICROSOFT-CDO-ALLDAYEVENT:FALSE
SUMMARY:Chamber Spring Quarterly Luncheon 2022
DESCRIPTION:Join us for the Spring Quarterly Luncheon on March 24\, 2022 at 11:45 am on the Mississippi College campus! This quarter we are welcoming Clinton\, MS Economic Development Director\, Daniel Lang\, to speak on recruitment and the overall structure of economic development in regards to the Chamber of Commerce and how they work together. \n\n\n\nDaniel Lang has been in his role since November and brings with him experience from the Mississippi Development Authority in economic development and project management. Previous roles include project manager for the Mississippi Development Authority and along with a focus on foreign direct investment initiatives. Lang holds a Bachelor's Degree in Business Administration from Mississippi College. Throughout his career at Mississippi Development Authority\, Lang has assisted many companies in their site selection needs including Navistar\, Auto Parts Manufacturing of Mississippi and Ajinomoto Foods.\n\n \n\nLang is a native of Jackson\, Mississippi and graduated from Jackson Prep before attending Mississippi College. While at Mississippi College\, Lang was a member of the soccer team and held an active role in Fellowship of Christian Athletes. He met his wife\, Meredith\, through Fellowship of Christian Athletes as she ran cross country and track for the Choctaws. They were married in Provine Chapel on the university's campus. Lang and his wife have two children\, Luke (2) and Jordan (1).\n\n\n\nThe buffet style lunch will be provided by Mississippi College and will consist of:\n\n	Mini Muffulettas\, Chicken Salad on Croissant\, & Pimento Cheese Triangles\n	Caesar Salad\n	Pasta Salad\n	Chips\n	Cookies
X-ALT-DESC;FMTTYPE=text/html:Join us for the Spring Quarterly Luncheon on March 24\, 2022 at 11:45 am on the Mississippi College campus! This quarter we are welcoming Clinton\, MS Economic Development Director\, Daniel Lang\, to speak on recruitment and the overall structure of economic development in regards to the Chamber of Commerce and how they work together.&nbsp\;<br />\n<br />\nDaniel Lang has been in his role since November and brings with him experience from the Mississippi Development Authority in economic development and project management. Previous roles include project manager for the Mississippi Development Authority and along with a focus on foreign direct investment initiatives. Lang holds a Bachelor&rsquo\;s Degree in Business Administration from Mississippi College. Throughout his career at Mississippi Development Authority\, Lang has assisted many companies in their site selection needs including Navistar\, Auto Parts Manufacturing of Mississippi and Ajinomoto Foods.<br />\n&nbsp\;<br />\nLang is a native of Jackson\, Mississippi and graduated from Jackson Prep before attending Mississippi College. While at Mississippi College\, Lang was a member of the soccer team and held an active role in Fellowship of Christian Athletes. He met his wife\, Meredith\, through Fellowship of Christian Athletes as she ran cross country and track for the Choctaws. They were married in Provine Chapel on the university&rsquo\;s campus. Lang and his wife have two children\, Luke (2) and Jordan (1).<br />\n<br />\nThe buffet style lunch will be provided by Mississippi College and will consist of:\n<ul>\n	<li>Mini Muffulettas\, Chicken Salad on Croissant\, &amp\; Pimento Cheese Triangles</li>\n	<li>Caesar&nbsp\;Salad</li>\n	<li>Pasta Salad</li>\n	<li>Chips</li>\n	<li>Cookies</li>\n</ul>\n
LOCATION:B.C. Rogers Student Center Anderson Hall Floor 2
UID:e.1219.3198
SEQUENCE:3
DTSTAMP:20260425T105312Z
URL:https://business.clintonchamber.org/events/details/chamber-spring-quarterly-luncheon-2022-3198
END:VEVENT

END:VCALENDAR
