BEGIN:VCALENDAR
VERSION:2.0
PRODID:-//ChamberMaster//Event Calendar 2.0//EN
METHOD:PUBLISH
X-PUBLISHED-TTL:P3D
REFRESH-INTERVAL:P3D
CALSCALE:GREGORIAN
BEGIN:VEVENT
DTSTART:20210416T164500Z
DTEND:20210416T180000Z
X-MICROSOFT-CDO-ALLDAYEVENT:FALSE
SUMMARY:Education Partners Luncheon
DESCRIPTION:This event is the Clinton Chamber of Commerce's annual Education Partners Luncheon (previously Education Appreciation Luncheon)\, open to the community as well as Chamber members. At this unique luncheon\, the Chamber recognizes Clinton's outstanding teachers who have received special awards during the past year\, our STAR Students and Teachers\, and the Clinton Chamber Youth Leadership (CCYL) Scholarship winners. Many city leaders attend to show our community's continued support of Clinton's excellent educational system.\n\nAs this is a catered event\, reservations are required to ensure enough food for guests.\n\nMore details will be released soon. Save the date!
X-ALT-DESC;FMTTYPE=text/html:This event is the Clinton Chamber of Commerce's annual Education Partners Luncheon (previously Education Appreciation Luncheon)\, open to the community as well as Chamber members. At this unique luncheon\, the Chamber recognizes Clinton's outstanding teachers who have received special awards during the past year\, our STAR Students and Teachers\, and the Clinton Chamber Youth Leadership (CCYL) Scholarship winners. Many city leaders attend to show our community's continued support of Clinton's excellent educational system.\n\nAs this is a catered event\, reservations are required to ensure enough food for guests.\n\nMore details will be released soon. Save the date!
LOCATION:B.C. Rogers Student Center\, Nelson Dr\, Clinton\, MS 39056\, USA
UID:e.1219.2969
SEQUENCE:3
DTSTAMP:20260426T031342Z
URL:https://business.clintonchamber.org/events/details/education-partners-luncheon-2969
END:VEVENT

END:VCALENDAR
