BEGIN:VCALENDAR
VERSION:2.0
PRODID:-//ChamberMaster//Event Calendar 2.0//EN
METHOD:PUBLISH
X-PUBLISHED-TTL:P3D
REFRESH-INTERVAL:P3D
CALSCALE:GREGORIAN
BEGIN:VEVENT
DTSTART:20221018T153000Z
DTEND:20221018T163000Z
X-MICROSOFT-CDO-ALLDAYEVENT:FALSE
SUMMARY:Party Like U Mean It Ribbon Cutting
DESCRIPTION:
X-ALT-DESC;FMTTYPE=text/html:
LOCATION:711 Clinton Parkway\, Clinton\, MS 39056
UID:e.1219.3307
SEQUENCE:3
DTSTAMP:20260424T213138Z
URL:https://business.clintonchamber.org/events/details/party-like-u-mean-it-ribbon-cutting-3307
END:VEVENT

END:VCALENDAR
