BEGIN:VCALENDAR
VERSION:2.0
PRODID:-//ChamberMaster//Event Calendar 2.0//EN
METHOD:PUBLISH
X-PUBLISHED-TTL:P3D
REFRESH-INTERVAL:P3D
CALSCALE:GREGORIAN
BEGIN:VEVENT
DTSTART;VALUE=DATE:20210406
DTEND;VALUE=DATE:20210407
TRANSP:TRANSPARENT
X-MICROSOFT-CDO-ALLDAYEVENT:TRUE
SUMMARY:Primary Municipal Elections
DESCRIPTION:
X-ALT-DESC;FMTTYPE=text/html:
LOCATION:
UID:e.1219.2955
SEQUENCE:3
DTSTAMP:20260426T031343Z
URL:https://business.clintonchamber.org/events/details/primary-municipal-elections-2955
END:VEVENT

END:VCALENDAR
