BEGIN:VCALENDAR
VERSION:2.0
PRODID:-//ChamberMaster//Event Calendar 2.0//EN
METHOD:PUBLISH
X-PUBLISHED-TTL:P3D
REFRESH-INTERVAL:P3D
CALSCALE:GREGORIAN
BEGIN:VEVENT
DTSTART:20210422T153000Z
DTEND:20210422T163000Z
X-MICROSOFT-CDO-ALLDAYEVENT:FALSE
SUMMARY:Ribbon Cutting: Big 10 Tire Pros & Accessories
DESCRIPTION:The Clinton Chamber will be hosting a ribbon cutting for Big 10 Tire Pros & Accessories to celebrate their 1 year anniversary. Big 10 Tire Pros & Accessories open their doors to Clinton right before the pandemic and have taking care of all our automotive needs since. Let's celebrate together Big 10!
X-ALT-DESC;FMTTYPE=text/html:The Clinton Chamber will be hosting a ribbon cutting for Big 10 Tire Pros &amp\; Accessories to celebrate their 1 year anniversary. Big 10 Tire Pros &amp\; Accessories open their doors to Clinton right before the pandemic and have taking care of all our automotive needs since. Let&#39\;s celebrate together Big 10!
LOCATION:Big 10 Tire Pros & Accessories\, 105 Mid Point Drive\, Clinton\, MS 39056\, USA
UID:e.1219.2991
SEQUENCE:3
DTSTAMP:20260426T013336Z
URL:https://business.clintonchamber.org/events/details/ribbon-cutting-big-10-tire-pros-accessories-2991
END:VEVENT

END:VCALENDAR
