BEGIN:VCALENDAR
VERSION:2.0
PRODID:-//ChamberMaster//Event Calendar 2.0//EN
METHOD:PUBLISH
X-PUBLISHED-TTL:P3D
REFRESH-INTERVAL:P3D
CALSCALE:GREGORIAN
BEGIN:VEVENT
DTSTART:20220224T163000Z
DTEND:20220225T050000Z
X-MICROSOFT-CDO-ALLDAYEVENT:FALSE
SUMMARY:Ribbon Cutting: Clinton Christian Academy
DESCRIPTION:Join us in celebrating the Clinton Christian Academy and their new Athletics and Performing Arts Center!
X-ALT-DESC;FMTTYPE=text/html:Join us in celebrating the Clinton Christian Academy and their new Athletics and Performing Arts Center!
LOCATION:Clinton Christian Academy 101 West Northside Drive Clinton\, MS 39056
UID:e.1219.3265
SEQUENCE:3
DTSTAMP:20260425T125650Z
URL:https://business.clintonchamber.org/events/details/ribbon-cutting-clinton-christian-academy-3265
END:VEVENT

END:VCALENDAR
