BEGIN:VCALENDAR
VERSION:2.0
PRODID:-//ChamberMaster//Event Calendar 2.0//EN
METHOD:PUBLISH
X-PUBLISHED-TTL:P3D
REFRESH-INTERVAL:P3D
CALSCALE:GREGORIAN
BEGIN:VEVENT
DTSTART:20220224T163000Z
DTEND:20220224T173000Z
X-MICROSOFT-CDO-ALLDAYEVENT:FALSE
SUMMARY:Ribbon Cutting: Clinton Christian Academy Athletic and Performing Arts Center
DESCRIPTION:Please join us as we celebrate the newest Clinton Christian Athletic and Performing Arts Center
X-ALT-DESC;FMTTYPE=text/html:Please join us as we celebrate the newest Clinton Christian Athletic and Performing Arts Center
LOCATION:101 W Northside Dr\, Clinton\, MS 39056\, USA
UID:e.1219.3273
SEQUENCE:3
DTSTAMP:20260425T110922Z
URL:https://business.clintonchamber.org/events/details/ribbon-cutting-clinton-christian-academy-athletic-and-performing-arts-center-3273
END:VEVENT

END:VCALENDAR
