BEGIN:VCALENDAR
VERSION:2.0
PRODID:-//ChamberMaster//Event Calendar 2.0//EN
METHOD:PUBLISH
X-PUBLISHED-TTL:P3D
REFRESH-INTERVAL:P3D
CALSCALE:GREGORIAN
BEGIN:VEVENT
DTSTART:20210420T153000Z
DTEND:20210420T163000Z
X-MICROSOFT-CDO-ALLDAYEVENT:FALSE
SUMMARY:Ribbon Cutting: Lakewood Memorial Park and Funeral Home
DESCRIPTION:The Clinton Chamber will be hosting a ribbon cutting to celebrate the renovation for Lakewood Memorial Park and Funeral Home.
X-ALT-DESC;FMTTYPE=text/html:The Clinton Chamber will be hosting a ribbon cutting to celebrate the renovation for Lakewood Memorial Park and Funeral Home.
LOCATION:6011 Clinton Blvd\, Jackson\, MS 39209\, USA
UID:e.1219.2990
SEQUENCE:3
DTSTAMP:20260426T013516Z
URL:https://business.clintonchamber.org/events/details/ribbon-cutting-lakewood-memorial-park-and-funeral-home-2990
END:VEVENT

END:VCALENDAR
