BEGIN:VCALENDAR
VERSION:2.0
PRODID:-//ChamberMaster//Event Calendar 2.0//EN
METHOD:PUBLISH
X-PUBLISHED-TTL:P3D
REFRESH-INTERVAL:P3D
CALSCALE:GREGORIAN
BEGIN:VEVENT
DTSTART:20210408T183000Z
DTEND:20210408T193000Z
X-MICROSOFT-CDO-ALLDAYEVENT:FALSE
SUMMARY:Ribbon Cutting & Red-Carpet Rollout: Wilbanks & Dowd
DESCRIPTION:The Clinton Chamber and Main Street Clinton will be hosting a ribbon cutting and red carpet roll-out ceremony for Wilbanks & Dowd. Chip Wilbanks and Matt Dowd have been practicing law for over 15 years specializing in litigation\, residential and commercial real estate services\, corporate law\, contract law\, wills\, and estates.
X-ALT-DESC;FMTTYPE=text/html:The Clinton Chamber and Main Street Clinton will be hosting a ribbon cutting and red carpet roll-out ceremony for Wilbanks &amp\; Dowd. Chip Wilbanks and Matt Dowd have been practicing law for over 15 years specializing in litigation\, residential and commercial real estate services\, corporate law\, contract law\, wills\, and estates.
LOCATION:108 W Leake St\, Clinton\, MS 39056\, USA
UID:e.1219.2992
SEQUENCE:3
DTSTAMP:20260426T014002Z
URL:https://business.clintonchamber.org/events/details/ribbon-cutting-red-carpet-rollout-wilbanks-dowd-2992
END:VEVENT

END:VCALENDAR
