BEGIN:VCALENDAR
VERSION:2.0
PRODID:-//ChamberMaster//Event Calendar 2.0//EN
METHOD:PUBLISH
X-PUBLISHED-TTL:P3D
REFRESH-INTERVAL:P3D
CALSCALE:GREGORIAN
BEGIN:VEVENT
DTSTART:20220329T183000Z
DTEND:20220329T193000Z
X-MICROSOFT-CDO-ALLDAYEVENT:FALSE
SUMMARY:Ribbon Cutting - The Vault Salon
DESCRIPTION:Join us for a ribbon cutting and red carpet roll out for The Vault Salon in downtown Clinton! Located at 200 A West Leake Street\, Clinton\, MS 39056.
X-ALT-DESC;FMTTYPE=text/html:Join us for a ribbon cutting and red carpet roll out for The Vault Salon in downtown Clinton! Located at 200 A West Leake Street\, Clinton\, MS 39056.
LOCATION:
UID:e.1219.3282
SEQUENCE:3
DTSTAMP:20260425T110024Z
URL:https://business.clintonchamber.org/events/details/ribbon-cutting-the-vault-salon-03-29-2022-3282
END:VEVENT

END:VCALENDAR
